BEGIN:VCALENDAR
VERSION:2.0
PRODID:-//Colegio ABECÉ - ECPv6.10.1.1//NONSGML v1.0//EN
CALSCALE:GREGORIAN
METHOD:PUBLISH
X-WR-CALNAME:Colegio ABECÉ
X-ORIGINAL-URL:http://colegio-abece.es
X-WR-CALDESC:Eventos para Colegio ABECÉ
REFRESH-INTERVAL;VALUE=DURATION:PT1H
X-Robots-Tag:noindex
X-PUBLISHED-TTL:PT1H
BEGIN:VTIMEZONE
TZID:UTC
BEGIN:STANDARD
TZOFFSETFROM:+0000
TZOFFSETTO:+0000
TZNAME:UTC
DTSTART:20250101T000000
END:STANDARD
END:VTIMEZONE
BEGIN:VEVENT
DTSTART;TZID=UTC:20251014T080000
DTEND;TZID=UTC:20251014T170000
DTSTAMP:20260423T101943
CREATED:20250905T082739Z
LAST-MODIFIED:20250905T082739Z
UID:19764-1760428800-1760461200@colegio-abece.es
SUMMARY:Salida MUVIM Valencia 4º ESO
DESCRIPTION:
URL:http://colegio-abece.es/event/salida-muvim-valencia-4o-eso/
CATEGORIES:Salidas
END:VEVENT
END:VCALENDAR